BEGIN:VCALENDAR
VERSION:2.0
PRODID:-//TruArtSpeaks - ECPv6.15.20//NONSGML v1.0//EN
CALSCALE:GREGORIAN
METHOD:PUBLISH
X-WR-CALNAME:TruArtSpeaks
X-ORIGINAL-URL:https://www.truartspeaks.org
X-WR-CALDESC:Events for TruArtSpeaks
REFRESH-INTERVAL;VALUE=DURATION:PT1H
X-Robots-Tag:noindex
X-PUBLISHED-TTL:PT1H
BEGIN:VTIMEZONE
TZID:America/Chicago
BEGIN:DAYLIGHT
TZOFFSETFROM:-0600
TZOFFSETTO:-0500
TZNAME:CDT
DTSTART:20250309T080000
END:DAYLIGHT
BEGIN:STANDARD
TZOFFSETFROM:-0500
TZOFFSETTO:-0600
TZNAME:CST
DTSTART:20251102T070000
END:STANDARD
BEGIN:DAYLIGHT
TZOFFSETFROM:-0600
TZOFFSETTO:-0500
TZNAME:CDT
DTSTART:20260308T080000
END:DAYLIGHT
BEGIN:STANDARD
TZOFFSETFROM:-0500
TZOFFSETTO:-0600
TZNAME:CST
DTSTART:20261101T070000
END:STANDARD
BEGIN:DAYLIGHT
TZOFFSETFROM:-0600
TZOFFSETTO:-0500
TZNAME:CDT
DTSTART:20270314T080000
END:DAYLIGHT
BEGIN:STANDARD
TZOFFSETFROM:-0500
TZOFFSETTO:-0600
TZNAME:CST
DTSTART:20271107T070000
END:STANDARD
END:VTIMEZONE
BEGIN:VEVENT
DTSTART;TZID=America/Chicago:20260917T180000
DTEND;TZID=America/Chicago:20260917T200000
DTSTAMP:20260423T194047
CREATED:20240106T130422Z
LAST-MODIFIED:20251220T001256Z
UID:10000248-1789668000-1789675200@www.truartspeaks.org
SUMMARY:Re-Verb Open Mic
DESCRIPTION:A free\, all-ages space for creatives to share\, engage in critical dialogue\, and build community with one another; Re-Verb Open Mic takes place every Thursday evening from 6:00-8:00 pm at Flava Coffee & Cafe. Many of our favorite hometown and National artists have stopped into Re-Verb Open mic to share a song\, a poem\, some comedy\, or music with us— we hope you do too! \nThe sign-up process is first-come\, first serve\, and we average about 15 available slots per evening. For more information on Re-Verb Open Mic\, to know more about the culture of the space\, or to inquire about being a feature\, please head to our contact page and leave a note! \nFor more information on Re-Verb Open Mic\, to know more about the culture of the space\, or to inquire about being a feature\, don’t hesitate to contact desdamona@truartspeaks.org. \n*Dj JUST NINE will be present every first Thursday as the resident DJ for TruArtSpeaks.
URL:https://www.truartspeaks.org/event/re-verb-open-mic-2022-08-25-3/2026-09-17/
LOCATION:Flava Coffee & Cafe\, 623 University Ave W\, St Paul\, 55104\, United States
ATTACH;FMTTYPE=image/jpeg:https://www.truartspeaks.org/wp-content/uploads/2019/01/Hero-Banner-ReVerb-TAS.jpg
ORGANIZER;CN="TruArtSpeaks":MAILTO:info@truartspeaks.org
END:VEVENT
END:VCALENDAR