BEGIN:VCALENDAR
VERSION:2.0
PRODID:-//TruArtSpeaks - ECPv6.15.20//NONSGML v1.0//EN
CALSCALE:GREGORIAN
METHOD:PUBLISH
X-ORIGINAL-URL:https://www.truartspeaks.org
X-WR-CALDESC:Events for TruArtSpeaks
REFRESH-INTERVAL;VALUE=DURATION:PT1H
X-Robots-Tag:noindex
X-PUBLISHED-TTL:PT1H
BEGIN:VTIMEZONE
TZID:America/Chicago
BEGIN:DAYLIGHT
TZOFFSETFROM:-0600
TZOFFSETTO:-0500
TZNAME:CDT
DTSTART:20250309T080000
END:DAYLIGHT
BEGIN:STANDARD
TZOFFSETFROM:-0500
TZOFFSETTO:-0600
TZNAME:CST
DTSTART:20251102T070000
END:STANDARD
BEGIN:DAYLIGHT
TZOFFSETFROM:-0600
TZOFFSETTO:-0500
TZNAME:CDT
DTSTART:20260308T080000
END:DAYLIGHT
BEGIN:STANDARD
TZOFFSETFROM:-0500
TZOFFSETTO:-0600
TZNAME:CST
DTSTART:20261101T070000
END:STANDARD
BEGIN:DAYLIGHT
TZOFFSETFROM:-0600
TZOFFSETTO:-0500
TZNAME:CDT
DTSTART:20270314T080000
END:DAYLIGHT
BEGIN:STANDARD
TZOFFSETFROM:-0500
TZOFFSETTO:-0600
TZNAME:CST
DTSTART:20271107T070000
END:STANDARD
END:VTIMEZONE
BEGIN:VEVENT
DTSTART;TZID=America/Chicago:20260102T190000
DTEND;TZID=America/Chicago:20260102T200000
DTSTAMP:20260423T163540
CREATED:20250112T022036Z
LAST-MODIFIED:20260401T160509Z
UID:10000422-1767380400-1767384000@www.truartspeaks.org
SUMMARY:Re-Verb Radio
DESCRIPTION:Re-Verb Radio airs Friday evenings from 7-8p in Frogtown on 94.1FM WFNU-Frogtown Radio (Saint Paul\, MN) amplifying the work of Frogtown and Rondo based Spoken Word and Hip Hop artists alongside the work of statewide\, national and global artists in the genre. We feature live\, in-studio performances\, interviews\, music\, poetry\, dialogue and more. Re-Verb Radio is a program of TruArtSpeaks supported in partnership by WFNU – Frogtown Radio. \nHosted by MaLLy and Desdamona each week\, you can stream online here or you can tune in live on 94.1FM from your radio or by downloading the app on your phone!
URL:https://www.truartspeaks.org/event/re-verb-radio/2026-01-02/
LOCATION:WFNU Frogtown Radio\, Saint Paul\, MN\, 55103\, United States
ATTACH;FMTTYPE=image/jpeg:https://www.truartspeaks.org/wp-content/uploads/2025/01/Re-Verb-Social-Square.jpg
ORGANIZER;CN="TruArtSpeaks":MAILTO:info@truartspeaks.org
END:VEVENT
END:VCALENDAR