BEGIN:VCALENDAR
VERSION:2.0
PRODID:-//TruArtSpeaks - ECPv6.15.20//NONSGML v1.0//EN
CALSCALE:GREGORIAN
METHOD:PUBLISH
X-WR-CALNAME:TruArtSpeaks
X-ORIGINAL-URL:https://www.truartspeaks.org
X-WR-CALDESC:Events for TruArtSpeaks
REFRESH-INTERVAL;VALUE=DURATION:PT1H
X-Robots-Tag:noindex
X-PUBLISHED-TTL:PT1H
BEGIN:VTIMEZONE
TZID:America/Chicago
BEGIN:DAYLIGHT
TZOFFSETFROM:-0600
TZOFFSETTO:-0500
TZNAME:CDT
DTSTART:20240310T080000
END:DAYLIGHT
BEGIN:STANDARD
TZOFFSETFROM:-0500
TZOFFSETTO:-0600
TZNAME:CST
DTSTART:20241103T070000
END:STANDARD
BEGIN:DAYLIGHT
TZOFFSETFROM:-0600
TZOFFSETTO:-0500
TZNAME:CDT
DTSTART:20250309T080000
END:DAYLIGHT
BEGIN:STANDARD
TZOFFSETFROM:-0500
TZOFFSETTO:-0600
TZNAME:CST
DTSTART:20251102T070000
END:STANDARD
BEGIN:DAYLIGHT
TZOFFSETFROM:-0600
TZOFFSETTO:-0500
TZNAME:CDT
DTSTART:20260308T080000
END:DAYLIGHT
BEGIN:STANDARD
TZOFFSETFROM:-0500
TZOFFSETTO:-0600
TZNAME:CST
DTSTART:20261101T070000
END:STANDARD
END:VTIMEZONE
BEGIN:VEVENT
DTSTART;TZID=America/Chicago:20250323T180000
DTEND;TZID=America/Chicago:20250323T200000
DTSTAMP:20260424T042430
CREATED:20250303T190435Z
LAST-MODIFIED:20250303T190435Z
UID:10000633-1742752800-1742760000@www.truartspeaks.org
SUMMARY:Be Heard '25 Preliminary Bout #1
DESCRIPTION:The Be Heard MN youth poetry slam series (Be Heard) is an annual series that seeks to identify a cohort of six teen poets with Minnesota addresses to represent youth voice through public performance\, commissioned works\, panel discussions\, and more while simultaneously receiving mentorship in writing\, performance\, and publication from some of Minnesota’s premiere spoken word artists.
URL:https://www.truartspeaks.org/event/be-heard-25-preliminary-bout-1/
LOCATION:Moon Palace Books\, 3032 Minnehaha Avenue\, Minneapols\, MN\, 55406\, United States
ATTACH;FMTTYPE=image/jpeg:https://www.truartspeaks.org/wp-content/uploads/2025/03/BH25-IG-Post-1.jpg
ORGANIZER;CN="TruArtSpeaks":MAILTO:info@truartspeaks.org
END:VEVENT
END:VCALENDAR